BEGIN:VCALENDAR
VERSION:2.0
PRODID:-//Waldheil Sehlde - ECPv6.15.18//NONSGML v1.0//EN
CALSCALE:GREGORIAN
METHOD:PUBLISH
X-WR-CALNAME:Waldheil Sehlde
X-ORIGINAL-URL:https://waldheil-sehlde.de
X-WR-CALDESC:Veranstaltungen für Waldheil Sehlde
REFRESH-INTERVAL;VALUE=DURATION:PT1H
X-Robots-Tag:noindex
X-PUBLISHED-TTL:PT1H
BEGIN:VTIMEZONE
TZID:Europe/Berlin
BEGIN:DAYLIGHT
TZOFFSETFROM:+0100
TZOFFSETTO:+0200
TZNAME:CEST
DTSTART:20240331T010000
END:DAYLIGHT
BEGIN:STANDARD
TZOFFSETFROM:+0200
TZOFFSETTO:+0100
TZNAME:CET
DTSTART:20241027T010000
END:STANDARD
BEGIN:DAYLIGHT
TZOFFSETFROM:+0100
TZOFFSETTO:+0200
TZNAME:CEST
DTSTART:20250330T010000
END:DAYLIGHT
BEGIN:STANDARD
TZOFFSETFROM:+0200
TZOFFSETTO:+0100
TZNAME:CET
DTSTART:20251026T010000
END:STANDARD
BEGIN:DAYLIGHT
TZOFFSETFROM:+0100
TZOFFSETTO:+0200
TZNAME:CEST
DTSTART:20260329T010000
END:DAYLIGHT
BEGIN:STANDARD
TZOFFSETFROM:+0200
TZOFFSETTO:+0100
TZNAME:CET
DTSTART:20261025T010000
END:STANDARD
END:VTIMEZONE
BEGIN:VEVENT
DTSTART;TZID=Europe/Berlin:20251231T063200
DTEND;TZID=Europe/Berlin:20251231T063200
DTSTAMP:20260419T142738
CREATED:20241125T175152Z
LAST-MODIFIED:20241228T204053Z
UID:2624-1767162720-1767162720@waldheil-sehlde.de
SUMMARY:Mülldienst RP
DESCRIPTION:Verantwortlich: T.S. Restmüll Papier & Pappe Infos zu deinen Tätigkeiten findest du auf https://waldheil-sehlde.de/arbeitsdienste/#Mülldienst
URL:https://waldheil-sehlde.de/event/muelldienst-rp-14/
LOCATION:Schützenhaus\, 26JV+WQ Sehlde\, Sehlde\, 38279\, Deutschland
CATEGORIES:Arbeitsdienst
END:VEVENT
BEGIN:VEVENT
DTSTART;TZID=Europe/Berlin:20251220T160000
DTEND;TZID=Europe/Berlin:20251220T160000
DTSTAMP:20260419T142738
CREATED:20241125T175152Z
LAST-MODIFIED:20241228T204053Z
UID:2622-1766246400-1766246400@waldheil-sehlde.de
SUMMARY:Weihnachtsmarkt
DESCRIPTION:
URL:https://waldheil-sehlde.de/event/weihnachtsmarkt-2/
CATEGORIES:Arbeitsdienst,Geselliges,Kinderprogramm,öffentlich
END:VEVENT
BEGIN:VEVENT
DTSTART;TZID=Europe/Berlin:20251219T180000
DTEND;TZID=Europe/Berlin:20251219T200000
DTSTAMP:20260419T142738
CREATED:20241125T175152Z
LAST-MODIFIED:20241228T204053Z
UID:2621-1766167200-1766174400@waldheil-sehlde.de
SUMMARY:Übungsschießen
DESCRIPTION:Aufsicht: K.S.
URL:https://waldheil-sehlde.de/event/uebungsschiessen-85/
LOCATION:Schützenhaus\, 26JV+WQ Sehlde\, Sehlde\, 38279\, Deutschland
CATEGORIES:öffentlich,Schießen
END:VEVENT
BEGIN:VEVENT
DTSTART;TZID=Europe/Berlin:20251217T063000
DTEND;TZID=Europe/Berlin:20251217T063000
DTSTAMP:20260419T142738
CREATED:20241125T175152Z
LAST-MODIFIED:20241228T204053Z
UID:2620-1765953000-1765953000@waldheil-sehlde.de
SUMMARY:Mülldienst R
DESCRIPTION:Verantwortlich: F.T. Restmüll Infos zu deinen Tätigkeiten findest du auf https://waldheil-sehlde.de/arbeitsdienste/#Mülldienst
URL:https://waldheil-sehlde.de/event/muelldienst-r-13/
LOCATION:Schützenhaus\, 26JV+WQ Sehlde\, Sehlde\, 38279\, Deutschland
CATEGORIES:Arbeitsdienst
END:VEVENT
BEGIN:VEVENT
DTSTART;TZID=Europe/Berlin:20251214T150000
DTEND;TZID=Europe/Berlin:20251214T150000
DTSTAMP:20260419T142738
CREATED:20241125T174952Z
LAST-MODIFIED:20250226T162047Z
UID:2619-1765724400-1765724400@waldheil-sehlde.de
SUMMARY:Jugendweihnachtsfeier der Vereine
DESCRIPTION:
URL:https://waldheil-sehlde.de/event/jugendweihnachtsfeier-der-vereine/
CATEGORIES:Arbeitsdienst,Kinderprogramm,öffentlich
END:VEVENT
BEGIN:VEVENT
DTSTART;TZID=Europe/Berlin:20251212T190000
DTEND;TZID=Europe/Berlin:20251212T190000
DTSTAMP:20260419T142738
CREATED:20241125T174952Z
LAST-MODIFIED:20250226T162047Z
UID:2618-1765566000-1765566000@waldheil-sehlde.de
SUMMARY:Er & Sie Abschluss
DESCRIPTION:Weitere Infos findest du hier: https://waldheil-sehlde.de/gemeinschaft/#erundsie
URL:https://waldheil-sehlde.de/event/er-sie-abschluss-2/
LOCATION:Schützenhaus\, 26JV+WQ Sehlde\, Sehlde\, 38279\, Deutschland
CATEGORIES:mit Voranmeldung,öffentlich,Schießen
END:VEVENT
BEGIN:VEVENT
DTSTART;TZID=Europe/Berlin:20251212T180000
DTEND;TZID=Europe/Berlin:20251212T200000
DTSTAMP:20260419T142738
CREATED:20241125T174952Z
LAST-MODIFIED:20250226T162047Z
UID:2617-1765562400-1765569600@waldheil-sehlde.de
SUMMARY:Übungsschießen
DESCRIPTION:Aufsicht: U.S.
URL:https://waldheil-sehlde.de/event/uebungsschiessen-84/
LOCATION:Schützenhaus\, 26JV+WQ Sehlde\, Sehlde\, 38279\, Deutschland
CATEGORIES:öffentlich,Schießen
END:VEVENT
BEGIN:VEVENT
DTSTART;TZID=Europe/Berlin:20251211T063000
DTEND;TZID=Europe/Berlin:20251211T063000
DTSTAMP:20260419T142738
CREATED:20241125T174952Z
LAST-MODIFIED:20250226T162047Z
UID:2616-1765434600-1765434600@waldheil-sehlde.de
SUMMARY:Mülldienst G
DESCRIPTION:Verantwortlich: HD.R.Gelbe Tonne Infos zu deinen Tätigkeiten findest du auf https://waldheil-sehlde.de/arbeitsdienste/#Mülldienst
URL:https://waldheil-sehlde.de/event/muelldienst-g-25/
LOCATION:Schützenhaus\, 26JV+WQ Sehlde\, Sehlde\, 38279\, Deutschland
CATEGORIES:Arbeitsdienst
END:VEVENT
BEGIN:VEVENT
DTSTART;TZID=Europe/Berlin:20251208T180000
DTEND;TZID=Europe/Berlin:20251208T190000
DTSTAMP:20260419T142738
CREATED:20241125T174952Z
LAST-MODIFIED:20250226T162046Z
UID:2615-1765216800-1765220400@waldheil-sehlde.de
SUMMARY:Abschlussvorstandssitzung
DESCRIPTION:
URL:https://waldheil-sehlde.de/event/abschlussvorstandssitzung-2/
LOCATION:Schützenhaus\, 26JV+WQ Sehlde\, Sehlde\, 38279\, Deutschland
CATEGORIES:Vorstand
END:VEVENT
BEGIN:VEVENT
DTSTART;TZID=Europe/Berlin:20251206T140000
DTEND;TZID=Europe/Berlin:20251206T140000
DTSTAMP:20260419T142738
CREATED:20241125T174752Z
LAST-MODIFIED:20250226T162032Z
UID:2614-1765029600-1765029600@waldheil-sehlde.de
SUMMARY:Frühschoppenabschluss
DESCRIPTION:Weitere Infos findest du hier: https://waldheil-sehlde.de/gemeinschaft/#fruehschoppen
URL:https://waldheil-sehlde.de/event/fruehschoppenabschluss/
LOCATION:Schützenhaus\, 26JV+WQ Sehlde\, Sehlde\, 38279\, Deutschland
CATEGORIES:Geselliges,mit Voranmeldung,öffentlich,Schießen
END:VEVENT
BEGIN:VEVENT
DTSTART;TZID=Europe/Berlin:20251205T180000
DTEND;TZID=Europe/Berlin:20251205T200000
DTSTAMP:20260419T142738
CREATED:20241125T174752Z
LAST-MODIFIED:20250226T162032Z
UID:2613-1764957600-1764964800@waldheil-sehlde.de
SUMMARY:Übungsschießen
DESCRIPTION:Aufsicht: U.S.
URL:https://waldheil-sehlde.de/event/uebungsschiessen-83/
LOCATION:Schützenhaus\, 26JV+WQ Sehlde\, Sehlde\, 38279\, Deutschland
CATEGORIES:öffentlich,Schießen
END:VEVENT
BEGIN:VEVENT
DTSTART;TZID=Europe/Berlin:20251203T063000
DTEND;TZID=Europe/Berlin:20251203T063000
DTSTAMP:20260419T142738
CREATED:20241125T174752Z
LAST-MODIFIED:20250226T162032Z
UID:2612-1764743400-1764743400@waldheil-sehlde.de
SUMMARY:Mülldienst RP
DESCRIPTION:Verantwortlich: K.J. Restmüll Papier & Pappe Infos zu deinen Tätigkeiten findest du auf https://waldheil-sehlde.de/arbeitsdienste/#Mülldienst
URL:https://waldheil-sehlde.de/event/muelldienst-rp-13/
LOCATION:Schützenhaus\, 26JV+WQ Sehlde\, Sehlde\, 38279\, Deutschland
CATEGORIES:Arbeitsdienst
END:VEVENT
BEGIN:VEVENT
DTSTART;VALUE=DATE:20251129
DTEND;VALUE=DATE:20251130
DTSTAMP:20260419T142738
CREATED:20241126T065150Z
LAST-MODIFIED:20250226T162032Z
UID:2762-1764374400-1764460799@waldheil-sehlde.de
SUMMARY:Hubertusabschluss
DESCRIPTION:
URL:https://waldheil-sehlde.de/event/hubertusabschluss-2/
LOCATION:Schützenhaus\, 26JV+WQ Sehlde\, Sehlde\, 38279\, Deutschland
CATEGORIES:Kostenpflichtig,mit Voranmeldung,öffentlich,Wettbewerb
END:VEVENT
BEGIN:VEVENT
DTSTART;TZID=Europe/Berlin:20251128T180000
DTEND;TZID=Europe/Berlin:20251128T200000
DTSTAMP:20260419T142738
CREATED:20241125T174752Z
LAST-MODIFIED:20250226T162031Z
UID:2610-1764352800-1764360000@waldheil-sehlde.de
SUMMARY:Übungsschießen
DESCRIPTION:Aufsicht: H.H.
URL:https://waldheil-sehlde.de/event/uebungsschiessen-82/
LOCATION:Schützenhaus\, 26JV+WQ Sehlde\, Sehlde\, 38279\, Deutschland
CATEGORIES:öffentlich,Schießen
END:VEVENT
BEGIN:VEVENT
DTSTART;TZID=Europe/Berlin:20251127T063000
DTEND;TZID=Europe/Berlin:20251127T063000
DTSTAMP:20260419T142738
CREATED:20241125T174552Z
LAST-MODIFIED:20250226T162017Z
UID:2609-1764225000-1764225000@waldheil-sehlde.de
SUMMARY:Mülldienst G
DESCRIPTION:Verantwortlich: M.B.Gelbe Tonne Infos zu deinen Tätigkeiten findest du auf https://waldheil-sehlde.de/arbeitsdienste/#Mülldienst
URL:https://waldheil-sehlde.de/event/muelldienst-g-24/
LOCATION:Schützenhaus\, 26JV+WQ Sehlde\, Sehlde\, 38279\, Deutschland
CATEGORIES:Arbeitsdienst
END:VEVENT
BEGIN:VEVENT
DTSTART;TZID=Europe/Berlin:20251121T180000
DTEND;TZID=Europe/Berlin:20251121T200000
DTSTAMP:20260419T142738
CREATED:20241125T174552Z
LAST-MODIFIED:20250226T162017Z
UID:2607-1763748000-1763755200@waldheil-sehlde.de
SUMMARY:Übungsschießen
DESCRIPTION:Aufsicht: O.T.
URL:https://waldheil-sehlde.de/event/uebungsschiessen-81/
LOCATION:Schützenhaus\, 26JV+WQ Sehlde\, Sehlde\, 38279\, Deutschland
CATEGORIES:öffentlich,Schießen
END:VEVENT
BEGIN:VEVENT
DTSTART;TZID=Europe/Berlin:20251121T180000
DTEND;TZID=Europe/Berlin:20251121T200000
DTSTAMP:20260419T142738
CREATED:20241125T174552Z
LAST-MODIFIED:20250226T162017Z
UID:2608-1763748000-1763755200@waldheil-sehlde.de
SUMMARY:2. Hubertusschießen
DESCRIPTION:
URL:https://waldheil-sehlde.de/event/2-hubertusschiessen/
LOCATION:Schützenhaus\, 26JV+WQ Sehlde\, Sehlde\, 38279\, Deutschland
CATEGORIES:Kostenpflichtig,öffentlich,Schießen,Wettbewerb
END:VEVENT
BEGIN:VEVENT
DTSTART;TZID=Europe/Berlin:20251119T063000
DTEND;TZID=Europe/Berlin:20251119T063000
DTSTAMP:20260419T142738
CREATED:20241125T174552Z
LAST-MODIFIED:20250226T162016Z
UID:2606-1763533800-1763533800@waldheil-sehlde.de
SUMMARY:Mülldienst R
DESCRIPTION:Verantwortlich: M.S. Restmüll Infos zu deinen Tätigkeiten findest du auf https://waldheil-sehlde.de/arbeitsdienste/#Mülldienst
URL:https://waldheil-sehlde.de/event/muelldienst-r-12/
LOCATION:Schützenhaus\, 26JV+WQ Sehlde\, Sehlde\, 38279\, Deutschland
CATEGORIES:Arbeitsdienst
END:VEVENT
BEGIN:VEVENT
DTSTART;TZID=Europe/Berlin:20251115T180000
DTEND;TZID=Europe/Berlin:20251115T180000
DTSTAMP:20260419T142738
CREATED:20241125T174552Z
LAST-MODIFIED:20250226T162016Z
UID:2605-1763229600-1763229600@waldheil-sehlde.de
SUMMARY:Kranzniederlegung
DESCRIPTION:
URL:https://waldheil-sehlde.de/event/kranzniederlegung/
LOCATION:Kirche\, An der Kirche 1\, Sehlde\, 38279
CATEGORIES:öffentlich,Vorstand
END:VEVENT
BEGIN:VEVENT
DTSTART;TZID=Europe/Berlin:20251114T190000
DTEND;TZID=Europe/Berlin:20251114T190000
DTSTAMP:20260419T142738
CREATED:20241125T174352Z
LAST-MODIFIED:20250226T162002Z
UID:2604-1763146800-1763146800@waldheil-sehlde.de
SUMMARY:Er & Sie Schießen
DESCRIPTION:Weitere Infos findest du hier: https://waldheil-sehlde.de/gemeinschaft/#erundsie
URL:https://waldheil-sehlde.de/event/er-sie-schiessen-22/
LOCATION:Schützenhaus\, 26JV+WQ Sehlde\, Sehlde\, 38279\, Deutschland
CATEGORIES:mit Voranmeldung,öffentlich,Schießen
END:VEVENT
BEGIN:VEVENT
DTSTART;TZID=Europe/Berlin:20251114T180000
DTEND;TZID=Europe/Berlin:20251114T200000
DTSTAMP:20260419T142738
CREATED:20241125T174352Z
LAST-MODIFIED:20250226T162002Z
UID:2603-1763143200-1763150400@waldheil-sehlde.de
SUMMARY:Übungsschießen
DESCRIPTION:Aufsicht: H.T.
URL:https://waldheil-sehlde.de/event/uebungsschiessen-80/
LOCATION:Schützenhaus\, 26JV+WQ Sehlde\, Sehlde\, 38279\, Deutschland
CATEGORIES:öffentlich,Schießen
END:VEVENT
BEGIN:VEVENT
DTSTART;TZID=Europe/Berlin:20251113T063000
DTEND;TZID=Europe/Berlin:20251113T063000
DTSTAMP:20260419T142738
CREATED:20241125T174352Z
LAST-MODIFIED:20250226T162002Z
UID:2602-1763015400-1763015400@waldheil-sehlde.de
SUMMARY:Mülldienst G
DESCRIPTION:Verantwortlich: O.T.Gelbe Tonne Infos zu deinen Tätigkeiten findest du auf https://waldheil-sehlde.de/arbeitsdienste/#Mülldienst
URL:https://waldheil-sehlde.de/event/muelldienst-g-23/
LOCATION:Schützenhaus\, 26JV+WQ Sehlde\, Sehlde\, 38279\, Deutschland
CATEGORIES:Arbeitsdienst
END:VEVENT
BEGIN:VEVENT
DTSTART;TZID=Europe/Berlin:20251110T180000
DTEND;TZID=Europe/Berlin:20251110T190000
DTSTAMP:20260419T142738
CREATED:20241125T174352Z
LAST-MODIFIED:20250226T162002Z
UID:2601-1762797600-1762801200@waldheil-sehlde.de
SUMMARY:Vorstandssitzung
DESCRIPTION:
URL:https://waldheil-sehlde.de/event/vorstandssitzung-19/
LOCATION:Schützenhaus\, 26JV+WQ Sehlde\, Sehlde\, 38279\, Deutschland
CATEGORIES:Vorstand
END:VEVENT
BEGIN:VEVENT
DTSTART;TZID=Europe/Berlin:20251108T140000
DTEND;TZID=Europe/Berlin:20251108T180000
DTSTAMP:20260419T142738
CREATED:20241125T174352Z
LAST-MODIFIED:20250226T162001Z
UID:2600-1762610400-1762624800@waldheil-sehlde.de
SUMMARY:1. Hubertusschießen & Familienkaffee
DESCRIPTION:
URL:https://waldheil-sehlde.de/event/1-hubertusschiessen-familienkaffee/
LOCATION:Schützenhaus\, 26JV+WQ Sehlde\, Sehlde\, 38279\, Deutschland
CATEGORIES:Geselliges,Kostenpflichtig,öffentlich,Schießen,Wettbewerb
END:VEVENT
BEGIN:VEVENT
DTSTART;TZID=Europe/Berlin:20251107T180000
DTEND;TZID=Europe/Berlin:20251107T200000
DTSTAMP:20260419T142738
CREATED:20241125T174152Z
LAST-MODIFIED:20250226T161947Z
UID:2598-1762538400-1762545600@waldheil-sehlde.de
SUMMARY:Übungsschießen
DESCRIPTION:Aufsicht: T.S.
URL:https://waldheil-sehlde.de/event/uebungsschiessen-79/
LOCATION:Schützenhaus\, 26JV+WQ Sehlde\, Sehlde\, 38279\, Deutschland
CATEGORIES:öffentlich,Schießen
END:VEVENT
BEGIN:VEVENT
DTSTART;TZID=Europe/Berlin:20251107T170000
DTEND;TZID=Europe/Berlin:20251107T170000
DTSTAMP:20260419T142738
CREATED:20241125T174152Z
LAST-MODIFIED:20250226T161947Z
UID:2599-1762534800-1762534800@waldheil-sehlde.de
SUMMARY:Martinsfest mit Umzug
DESCRIPTION:Wir begleiten den Umzug wieder mit Fackeln.
URL:https://waldheil-sehlde.de/event/martinsfest-mit-umzug/
CATEGORIES:Geselliges,Kinderprogramm,öffentlich
END:VEVENT
BEGIN:VEVENT
DTSTART;TZID=Europe/Berlin:20251105T063000
DTEND;TZID=Europe/Berlin:20251105T063000
DTSTAMP:20260419T142738
CREATED:20241125T174152Z
LAST-MODIFIED:20250226T161946Z
UID:2597-1762324200-1762324200@waldheil-sehlde.de
SUMMARY:Mülldienst RP
DESCRIPTION:Verantwortlich: I.S. Restmüll Papier & Pappe Infos zu deinen Tätigkeiten findest du auf https://waldheil-sehlde.de/arbeitsdienste/#Mülldienst
URL:https://waldheil-sehlde.de/event/muelldienst-rp-12/
LOCATION:Schützenhaus\, 26JV+WQ Sehlde\, Sehlde\, 38279\, Deutschland
CATEGORIES:Arbeitsdienst
END:VEVENT
BEGIN:VEVENT
DTSTART;TZID=Europe/Berlin:20251102T093000
DTEND;TZID=Europe/Berlin:20251102T120000
DTSTAMP:20260419T142738
CREATED:20241125T174152Z
LAST-MODIFIED:20250226T161946Z
UID:2596-1762075800-1762084800@waldheil-sehlde.de
SUMMARY:Frühschoppenschießen
DESCRIPTION:Weitere Infos findest du hier: https://waldheil-sehlde.de/gemeinschaft/#fruehschoppen
URL:https://waldheil-sehlde.de/event/fruehschoppenschiessen-21/
LOCATION:Schützenhaus\, 26JV+WQ Sehlde\, Sehlde\, 38279\, Deutschland
CATEGORIES:Geselliges,öffentlich,Schießen
END:VEVENT
BEGIN:VEVENT
DTSTART;TZID=Europe/Berlin:20251031T180000
DTEND;TZID=Europe/Berlin:20251031T200000
DTSTAMP:20260419T142738
CREATED:20241125T174152Z
LAST-MODIFIED:20250226T161946Z
UID:2595-1761933600-1761940800@waldheil-sehlde.de
SUMMARY:Übungsschießen
DESCRIPTION:Aufsicht: K.S.
URL:https://waldheil-sehlde.de/event/uebungsschiessen-78/
LOCATION:Schützenhaus\, 26JV+WQ Sehlde\, Sehlde\, 38279\, Deutschland
CATEGORIES:öffentlich,Schießen
END:VEVENT
BEGIN:VEVENT
DTSTART;TZID=Europe/Berlin:20251029T063000
DTEND;TZID=Europe/Berlin:20251029T063000
DTSTAMP:20260419T142738
CREATED:20241125T173952Z
LAST-MODIFIED:20250226T161932Z
UID:2594-1761719400-1761719400@waldheil-sehlde.de
SUMMARY:Mülldienst G
DESCRIPTION:Verantwortlich: U.S.Gelbe Tonne Infos zu deinen Tätigkeiten findest du auf https://waldheil-sehlde.de/arbeitsdienste/#Mülldienst
URL:https://waldheil-sehlde.de/event/muelldienst-g-22/
LOCATION:Schützenhaus\, 26JV+WQ Sehlde\, Sehlde\, 38279\, Deutschland
CATEGORIES:Arbeitsdienst
END:VEVENT
END:VCALENDAR